BEGIN:VCALENDAR
VERSION:2.0
PRODID:-//FABER//Event Calendar//EN
CALSCALE:GREGORIAN
BEGIN:VEVENT
SUMMARY:ABQ.Dialogues #7 Digital Dementia & Confabulation
DTSTART;TZID=Europe/Bucharest:20260423T180000
DTEND;TZID=Europe/Bucharest:20260423T210000
DTSTAMP:20260423T172530Z
UID:event-520@faber.ro
DESCRIPTION:ABQ.Dialogues #7 Digital Dementia & Confabulation\n\n\n\nABQ.D
 ialogues #7/10 Digital Dementia &amp\; Confabulation\n\nCând confortul ne
  rescrie cogniția\, iar inteligența încetează să ne mai aparțină cu
  totul\n\n\n\nTrăim într-o eră a externalizării cognitive fără prece
 dent. Memoria este transferată dispozitivelor. Atenția este recoltată d
 e platforme. Sensul este tot mai mult mediat de fluxuri de știri\, algori
 tmi și\, acum\, de sisteme AI care pot genera non-sensuri fluente cu o î
 ncredere deplină.Ceea ce începe ca un confort se poate termina ca o depe
 ndență.La ABQ.Dialogues #7\, deschidem o conversație necesară despre c
 osturile psihologice\, de dezvoltare\, sociale și civice ale vieții digi
 tale. Aceasta nu este o critică nostalgică la adresa tehnologiei. Este o
  explorare serioasă a ceea ce se întâmplă atunci când ființele umane
 \, familiile\, școlile și comunitățile sunt scufundate în sisteme con
 cepute pentru a capta atenția\, a optimiza implicarea și\, tot mai mult\
 , pentru a modela percepția însăși.„Demența digitală” denumește
  eroziunea memoriei\, a concentrării\, a reflecției și a autonomiei cog
 nitive într-un mediu mereu conectat. „Confabulația” indică un alt r
 isc emergent: normalizarea coerenței false — de la halucinațiile AI la
  distorsiunile amplificate algoritmic\, de la certitudinea superficială l
 a confuzia colectivă.Această sesiune analizează modul în care viața d
 igitală schimbă nu doar ceea ce facem\, ci și modul în care gândim\, 
 relaționăm\, învățăm\, avem încredere și creștem generația urmă
 toare.\n\nDe ce acum: costul cognitiv și social al conexiunii permanente\
 n\n\n\nEra digitală ne-a oferit acces\, viteză și coordonare extraordin
 are. Dar a introdus\, de asemenea\, un nou strat de fragilitate în viața
  de zi cu zi. Asistăm la ascensiunea unei culturi modelate de:Atenție fr
 agmentată și stimulare compulsivă\;Dependența de dispozitive pentru me
 morie\, orientare și luarea deciziilor\;Obiceiuri pe rețelele sociale ca
 re recompensează reacția în detrimentul reflecției\;Copii care se dezv
 oltă în interiorul unor sisteme construite pentru „engagement”\, nu 
 pentru educație\;Granițe șterse între adevăr\, persuasiune\, fabrica
 ție și performanță\;Instrumente AI care pot asista inteligența\, dar 
 o pot și simula.Aceasta nu mai este doar o problemă de tehnologie. Este 
 o problemă de sănătate\, de educație\, de parenting\, o problemă a co
 munității și\, în ultimă instanță\, a societății. Adevărata înt
 rebare nu este dacă sistemele digitale sunt puternice\, ci dacă noi mai 
 avem capacitatea culturală\, cognitivă și etică de a rămâne stăpân
 ii lor.\n\nCe vom explora\n\n\n\nDemența digitală: ce se întâmplă câ
 nd memoria și gândirea profundă sunt înlocuite continuu de confortul d
 igital.Dependența prin design: cum platformele și buclele de recompensă
  modelează comportamentul.Copiii și educația: impactul expunerii digita
 le asupra imaginației și reglării emoționale.Confabulația: cum falsur
 ile plauzibile și certitudinea sintetică afectează discernământul uma
 n.Încrederea socială și realitatea comună: ce se întâmplă cu comuni
 tățile când adevărul devine instabil.Identitatea și sănătatea minta
 lă: anxietatea\, singurătatea și imaginea de sine în mediul digital.Pr
 ovocarea familiei: cum pot răspunde părinții și educatorii fără pani
 că sau resemnare.Un viitor digital mai sănătos: norme și principii de 
 design care ar putea restabili echilibrul.\n\nCine este invitat?\n\n\n\nP
 ărinți care încearcă să gestioneze expunerea la ecrane și dezvoltare
 a copiilor\;Profesori\, lideri școlari și inovatori în educație\;Psiho
 logi\, terapeuți și profesioniști din domeniul sănătății\;Fondatori
 \, tehnologi și creatori de produse\;Studenți și tineri profesioniști 
 care trăiesc în cultura „digital-first”\;Oricine se întreabă: ce n
 e face toate acestea și ce fel de societate devenim?\n\nMarea întrebare\
 n\n\n\nIată o propunere de traducere adaptată\, care păstrează tonul i
 ntelectual\, grav și provocator al textului original. Am ales o variantă
  care sună natural în limba română\, potrivită pentru un eveniment de
  tip conferință sau dialog academic.Când confortul ne rescrie cogniția
 \, iar inteligența încetează să ne mai aparțină cu totulTrăim într
 -o eră a externalizării cognitive fără precedent. Memoria este transfe
 rată dispozitivelor. Atenția este recoltată de platforme. Sensul este t
 ot mai mult mediat de fluxuri de știri\, algoritmi și\, acum\, de sistem
 e AI care pot genera non-sensuri fluente cu o încredere deplină.Ceea ce 
 începe ca un confort se poate termina ca o dependență.La ABQ.Dialogues 
 #7\, deschidem o conversație necesară despre costurile psihologice\, de 
 dezvoltare\, sociale și civice ale vieții digitale. Aceasta nu este o cr
 itică nostalgică la adresa tehnologiei. Este o explorare serioasă a cee
 a ce se întâmplă atunci când ființele umane\, familiile\, școlile ș
 i comunitățile sunt scufundate în sisteme concepute pentru a capta aten
 ția\, a optimiza implicarea și\, tot mai mult\, pentru a modela percepț
 ia însăși.„Demența digitală” denumește eroziunea memoriei\, a co
 ncentrării\, a reflecției și a autonomiei cognitive într-un mediu mere
 u conectat. „Confabulația” indică un alt risc emergent: normalizarea
  coerenței false — de la halucinațiile AI la distorsiunile amplificate
  algoritmic\, de la certitudinea superficială la confuzia colectivă.Acea
 stă sesiune analizează modul în care viața digitală schimbă nu doar 
 ceea ce facem\, ci și modul în care gândim\, relaționăm\, învățăm
 \, avem încredere și creștem generația următoare.De ce acum: costul c
 ognitiv și social al conexiunii permanenteEra digitală ne-a oferit acces
 \, viteză și coordonare extraordinare. Dar a introdus\, de asemenea\, un
  nou strat de fragilitate în viața de zi cu zi. Asistăm la ascensiunea 
 unei culturi modelate de:Atenție fragmentată și stimulare compulsivă\;
 Dependența de dispozitive pentru memorie\, orientare și luarea deciziilo
 r\;Obiceiuri pe rețelele sociale care recompensează reacția în detrime
 ntul reflecției\;Copii care se dezvoltă în interiorul unor sisteme cons
 truite pentru „engagement”\, nu pentru educație\;Granițe șterse în
 tre adevăr\, persuasiune\, fabricație și performanță\;Instrumente AI 
 care pot asista inteligența\, dar o pot și simula.Aceasta nu mai este do
 ar o problemă de tehnologie. Este o problemă de sănătate\, de educați
 e\, de parenting\, o problemă a comunității și\, în ultimă instanț
 ă\, a societății. Adevărata întrebare nu este dacă sistemele digital
 e sunt puternice\, ci dacă noi mai avem capacitatea culturală\, cognitiv
 ă și etică de a rămâne stăpânii lor.Ce vom exploraDemența digital
 ă: ce se întâmplă când memoria și gândirea profundă sunt înlocuit
 e continuu de confortul digital.Dependența prin design: cum platformele 
 și buclele de recompensă modelează comportamentul.Copiii și educația:
  impactul expunerii digitale asupra imaginației și reglării emoționale
 .Confabulația: cum falsurile plauzibile și certitudinea sintetică afect
 ează discernământul uman.Încrederea socială și realitatea comună: c
 e se întâmplă cu comunitățile când adevărul devine instabil.Identit
 atea și sănătatea mintală: anxietatea\, singurătatea și imaginea de 
 sine în mediul digital.Provocarea familiei: cum pot răspunde părinții 
 și educatorii fără panică sau resemnare.Un viitor digital mai sănăto
 s: norme și principii de design care ar putea restabili echilibrul.Cine a
 r trebui să participePărinți care încearcă să gestioneze expunerea l
 a ecrane și dezvoltarea copiilor\;Profesori\, lideri școlari și inovato
 ri în educație\;Psihologi\, terapeuți și profesioniști din domeniul s
 ănătății\;Fondatori\, tehnologi și creatori de produse\;Studenți și
  tineri profesioniști care trăiesc în cultura „digital-first”\;Oric
 ine se întreabă: ce ne face toate acestea și ce fel de societate deveni
 m?Marea întrebareDacă vom continua să optimizăm totul pentru viteză\,
  stimulare și inteligență sintetică\, ce se va alege de memorie\, răb
 dare\, prezență umană și capacitatea de a trăi împreună cu sens?Ace
 st dialog nu este despre respingerea tehnologiei. Este despre recuperarea 
 controlului. Pentru că\, dacă nu ne modelăm conștient mediul digital\,
  acesta ne va modela pe noi implicit. Riscul profund nu este doar ca mași
 nile să devină mai inteligente\, ci ca oamenii să devină mai puțin at
 enți\, mai puțin ancorați în realitate și mai puțin capabili să dis
 tingă ceea ce este autentic.Alătură-te ABQ.Dialogues #7 și ajută-ne s
 ă examinăm una dintre tensiunile definitorii ale timpului nostru: cum s
 ă beneficiem de progresul digital fără a sacrifica cogniția\, sănăta
 tea mintală și comunitatea în acest proces.\n\nABQ.Dialogues #7/10 – 
 Vorbitori:\n\n\n\nMonica Diaconu\, co-fondator Babel Școală și LiceuMir
 cea Dragu\, psiholog\, psihoterapeut cognitiv-comportamentalDr. Marinela H
 urmuz\, medic primar psihiatru\, psihoterapeutProf. Univ. Dr. Crisanta-Ali
 na Mazilescu\, profesor universitar\, dublu doctoratDr. Bogdan Nadolu\, co
 nferențiar universitar\, psiho-sociologie\n\nDe ce este nevoie?\n\n\n\nUn
  limbaj public mai clar pentru a discuta despre daunele digitale\, fără 
 a cădea în clișee sau panică morală\;Modele mai bune pentru igiena di
 gitală a copiilor\, protejarea atenției și o educație sănătoasă din
  punct de vedere cognitiv\;Practici mai solide în familii și școli priv
 ind utilizarea ecranelor\, concentrarea\, somnul și interacțiunea în lu
 mea reală\;O utilizare mai responsabilă a AI\, în special acolo unde re
 zultatele sintetice pot distorsiona încrederea și discernământul\;Norm
 e comunitare mai sănătoase pentru dialog\, dezacord și căutarea adevă
 rului\;Alegeri de produs\, politici și design care să protejeze autonomi
 a umană (agency)\, în loc să exploateze slăbiciunile cognitive\;Un ang
 ajament cultural mai larg pentru reconstruirea reflecției\, a prezenței\
 , a memoriei și a conexiunilor sociale autentice.\n\nDespre ABQ.Dialogues
 \n\n\n\nABQ Dialogues este o serie de conversații centrate pe om\, unde v
 oci diverse explorează modul în care tehnologiile emergente remodelează
  aspectele fundamentale ale experienței noastre de viață și viitorul c
 olectiv.Dialogurile urmează pilonii principali ai ABQ: educație\, antrep
 renoriat și impact social\, reunind voci profesionale variate într-o că
 lătorie de învățare progresivă. Ne propunem să evidențiem impactul 
 tehnologiei\, creând o înțelegere mai profundă a modului în care AI\,
  Blockchain\, Bio-ingineria și Quantum Computing ne reconfigurează lumea
 .Prioritizăm modul în care aceste inovații afectează experiența uman
 ă. De la sistemele de sănătate și longevitate\, până la expresia art
 istică\, bunăstarea psihologică și structurile comunitare\, explorăm 
 atât schimbările actuale\, cât și implicațiile viitoare asupra modulu
 i în care trăim\, muncim și găsim sens. Punem oamenii înaintea tehnol
 ogiei\, asigurându-ne că valorile și nevoile umane ghidează înțelege
 rea noastră colectivă asupra transformării tehnologice.\n\nFormatul Eve
 nimentelor\n\n\n\nPropunem o serie de conversații lunare care creează sp
 ațiu pentru dialog între experți și public. Fiecare sesiune combină p
 rezentări ale specialiștilor cu sesiuni interactive de întrebări și r
 ăspunsuri\, discuții deschise și oportunități de networking. Credem c
 ă acest format încurajează participarea incluzivă\, amplificând vocil
 e din mai multe sectoare și medii.Scopul nostru este de a genera perspect
 ive practice utile atât persoanelor care navighează schimbările tehnolo
 gice\, cât și liderilor comunitari sau organizațiilor. După fiecare di
 alog\, publicăm concluziile\, urmate de un articol scris și o versiune a
 udio pe platforma noastră Substack\, cu revizuirea și rafinarea contribu
 itorilor și a paneliștilor.ABQ.Dialogues este o serie de 10 evenimente l
 unare\, cu sesiuni de 3 ore împărțite între conversații cu experți\,
  intervenții ale publicului și networking.\n\n\nhttps://faber.ro/en/even
 imente/abqdialogues-7-digital-dementia-confabulation/
LOCATION:https://maps.app.goo.gl/HPrA3EAoeXVPqv897
URL:https://faber.ro/en/evenimente/abqdialogues-7-digital-dementia-confabu
 lation/
END:VEVENT
END:VCALENDAR
