BEGIN:VCALENDAR
VERSION:2.0
PRODID:-//FABER//Event Calendar//EN
CALSCALE:GREGORIAN
BEGIN:VEVENT
SUMMARY:LATE NIGHT STORIES Chapter #1: Italian Night la FABER
DTSTART;TZID=Europe/Bucharest:20260424T190000
DTEND;TZID=Europe/Bucharest:20260424T230000
DTSTAMP:20260422T120739Z
UID:event-518@faber.ro
DESCRIPTION:LATE NIGHT STORIES Chapter #1: Italian Night la FABER\n\n\n\nI
 ndiferent dacă ești expert în bucătărie sau puțin intimidat la gând
 ul unei rețete\, vino vineri\, 24 aprilie\, alături de noi la Faber. And
 reea Iovescu și Valeria Melnic gătesc live pentru toți\, împărtășim
  secrete și metode\, iar împreună descoperim că\, de fapt\, lucrurile 
 delicioase sunt adesea cele mai simple.Cu vinuri bune de la PetroVaselo\, 
 paste delicioase de la Pastaio\, muzică faină și povești\, petrecem o 
 seară fără grabă. Iar la final ne așezăm cu toții la masă\, ca în
 tre prieteni. Apoi\, de ce nu\, e loc mereu de puțin dans. Spațiul incre
 dibil de la Faber e făcut special pentru asta.Și pentru că nu ar fi un 
 party marca A4 fără temă de casă\, dresscode-ul acestei petreceri este
 : a touch of animal print. \n\ngătim împreună I mâncăm I povestim I b
 em un spritz I dansăm\n\n\nhttps://faber.ro/en/evenimente/late-night-stor
 ies-chapter-1-italian-night-la-faber/
LOCATION:https://maps.app.goo.gl/HPrA3EAoeXVPqv897
URL:https://faber.ro/en/evenimente/late-night-stories-chapter-1-italian-ni
 ght-la-faber/
END:VEVENT
END:VCALENDAR
